BEGIN:VCALENDAR
VERSION:2.0
PRODID:-//Squarespace Inc/Squarespace 6//v6//EN
BEGIN:VEVENT
UID:614fa306c2965710d914f05f@squarespace.com
DTSTAMP:20210927T161113Z
DTSTART:20210123T030000Z
DTEND:20210123T040000Z
SUMMARY:AYM College Welcome Night
END:VEVENT
END:VCALENDAR
