BEGIN:VCALENDAR
VERSION:2.0
PRODID:-//Squarespace Inc/Squarespace 6//v6//EN
BEGIN:VEVENT
UID:614fb7b32a80e646d35d35b8@squarespace.com
DTSTAMP:20210927T235608Z
DTSTART:20210109T023000Z
DTEND:20210109T030000Z
SUMMARY:AYM College CG
END:VEVENT
END:VCALENDAR
