BEGIN:VCALENDAR
VERSION:2.0
PRODID:-//Squarespace Inc/Squarespace 6//v6//EN
BEGIN:VEVENT
UID:614fb8f0b479b276ec6a1507@squarespace.com
DTSTAMP:20210927T160948Z
DTSTART:20210206T013000Z
DTEND:20210206T023000Z
SUMMARY:FOCUS 2021
END:VEVENT
END:VCALENDAR
