BEGIN:VCALENDAR
VERSION:2.0
PRODID:-//Squarespace Inc/Squarespace 6//v6//EN
BEGIN:VEVENT
UID:614fa02f09dc287f04780286@squarespace.com
DTSTAMP:20210927T161654Z
DTSTART:20201231T040000Z
DTEND:20201231T050000Z
SUMMARY:AYM College Boardgame Night
END:VEVENT
END:VCALENDAR
