BEGIN:VCALENDAR
VERSION:2.0
PRODID:-//Squarespace Inc/Squarespace 6//v6//EN
BEGIN:VEVENT
UID:6386bb9dbbe7ad768b9baf3c@squarespace.com
DTSTAMP:20221209T045910Z
DTSTART:20221217T023000Z
DTEND:20221217T050000Z
SUMMARY:AYM Bay Area Christmas Party
END:VEVENT
END:VCALENDAR
