BEGIN:VCALENDAR
VERSION:2.0
PRODID:-//Squarespace Inc/Squarespace 6//v6//EN
BEGIN:VEVENT
UID:630ebd8d7893f341a10cdd79@squarespace.com
DTSTAMP:20220831T015110Z
DTSTART:20220806T020000Z
DTEND:20220807T220000Z
SUMMARY:Area Youth Summer Retreat
END:VEVENT
END:VCALENDAR
