BEGIN:VCALENDAR
VERSION:2.0
PRODID:-//Squarespace Inc/Squarespace 6//v6//EN
BEGIN:VEVENT
UID:614f9f4278b23513f5f785c5@squarespace.com
DTSTAMP:20210927T163450Z
DTSTART:20201101T030000Z
DTEND:20201101T040000Z
SUMMARY:Among Us Tournament
END:VEVENT
END:VCALENDAR
