BEGIN:VCALENDAR
VERSION:2.0
PRODID:-//Squarespace Inc/Squarespace 6//v6//EN
BEGIN:VEVENT
UID:614fb0cee5fdea5d0a63ef7a@squarespace.com
DTSTAMP:20210927T233810Z
DTSTART:20210424T003000Z
DTEND:20210424T010000Z
SUMMARY:Acts 9: Saul's conversion
END:VEVENT
END:VCALENDAR
