BEGIN:VCALENDAR
VERSION:2.0
PRODID:-//Squarespace Inc/Squarespace 6//v6//EN
BEGIN:VEVENT
UID:614f9ed14310b860b159dfc5@squarespace.com
DTSTAMP:20210927T233932Z
DTSTART:20210410T003000Z
DTEND:20210410T010500Z
SUMMARY:Acts 2 Church
END:VEVENT
END:VCALENDAR
