BEGIN:VCALENDAR
VERSION:2.0
PRODID:-//Squarespace Inc/Squarespace 6//v6//EN
BEGIN:VEVENT
UID:614fb2fdc5e1f5730e7d5414@squarespace.com
DTSTAMP:20210927T233852Z
DTSTART:20210417T003000Z
DTEND:20210417T010000Z
SUMMARY:Act 4: Ordinary People\, Extraordinary Things
END:VEVENT
END:VCALENDAR
