BEGIN:VCALENDAR
VERSION:2.0
PRODID:-//Squarespace Inc/Squarespace 6//v6//EN
BEGIN:VEVENT
UID:63c086045646f82faf98895b@squarespace.com
DTSTAMP:20230227T221447Z
DTSTART:20230311T020000Z
DTEND:20230312T060000Z
SUMMARY:Ignition Youth Conference 2023
END:VEVENT
END:VCALENDAR
