BEGIN:VCALENDAR
VERSION:2.0
PRODID:-//Squarespace Inc/Squarespace 6//v6//EN
BEGIN:VEVENT
UID:614fa836e5fdea5d0a638682@squarespace.com
DTSTAMP:20210927T164343Z
DTSTART:20200718T023000Z
DTEND:20200718T033000Z
SUMMARY:4-Part Series "SHIPS"
END:VEVENT
END:VCALENDAR
