BEGIN:VCALENDAR
VERSION:2.0
PRODID:-//Squarespace Inc/Squarespace 6//v6//EN
BEGIN:VEVENT
UID:614fbbfe4475614ab68f1deb@squarespace.com
DTSTAMP:20210927T160751Z
DTSTART:20210129T080000Z
DTEND:20210301T023000Z
SUMMARY:#1000 Sock Challenge
END:VEVENT
END:VCALENDAR
